BEGIN:VCALENDAR
VERSION:2.0
PRODID:-//Clermont Car Club - ECPv6.15.17.1//NONSGML v1.0//EN
CALSCALE:GREGORIAN
METHOD:PUBLISH
X-WR-CALNAME:Clermont Car Club
X-ORIGINAL-URL:https://clermontcarclub.com
X-WR-CALDESC:Events for Clermont Car Club
REFRESH-INTERVAL;VALUE=DURATION:PT1H
X-Robots-Tag:noindex
X-PUBLISHED-TTL:PT1H
BEGIN:VTIMEZONE
TZID:America/Halifax
BEGIN:DAYLIGHT
TZOFFSETFROM:-0400
TZOFFSETTO:-0300
TZNAME:ADT
DTSTART:20220313T060000
END:DAYLIGHT
BEGIN:STANDARD
TZOFFSETFROM:-0300
TZOFFSETTO:-0400
TZNAME:AST
DTSTART:20221106T050000
END:STANDARD
BEGIN:DAYLIGHT
TZOFFSETFROM:-0400
TZOFFSETTO:-0300
TZNAME:ADT
DTSTART:20230312T060000
END:DAYLIGHT
BEGIN:STANDARD
TZOFFSETFROM:-0300
TZOFFSETTO:-0400
TZNAME:AST
DTSTART:20231105T050000
END:STANDARD
BEGIN:DAYLIGHT
TZOFFSETFROM:-0400
TZOFFSETTO:-0300
TZNAME:ADT
DTSTART:20240310T060000
END:DAYLIGHT
BEGIN:STANDARD
TZOFFSETFROM:-0300
TZOFFSETTO:-0400
TZNAME:AST
DTSTART:20241103T050000
END:STANDARD
END:VTIMEZONE
BEGIN:VTIMEZONE
TZID:America/Indiana/Indianapolis
BEGIN:DAYLIGHT
TZOFFSETFROM:-0500
TZOFFSETTO:-0400
TZNAME:EDT
DTSTART:20220313T070000
END:DAYLIGHT
BEGIN:STANDARD
TZOFFSETFROM:-0400
TZOFFSETTO:-0500
TZNAME:EST
DTSTART:20221106T060000
END:STANDARD
BEGIN:DAYLIGHT
TZOFFSETFROM:-0500
TZOFFSETTO:-0400
TZNAME:EDT
DTSTART:20230312T070000
END:DAYLIGHT
BEGIN:STANDARD
TZOFFSETFROM:-0400
TZOFFSETTO:-0500
TZNAME:EST
DTSTART:20231105T060000
END:STANDARD
BEGIN:DAYLIGHT
TZOFFSETFROM:-0500
TZOFFSETTO:-0400
TZNAME:EDT
DTSTART:20240310T070000
END:DAYLIGHT
BEGIN:STANDARD
TZOFFSETFROM:-0400
TZOFFSETTO:-0500
TZNAME:EST
DTSTART:20241103T060000
END:STANDARD
END:VTIMEZONE
BEGIN:VEVENT
DTSTART;TZID=America/Halifax:20231117T080000
DTEND;TZID=America/Halifax:20231119T170000
DTSTAMP:20260422T134605
CREATED:20231107T124829Z
LAST-MODIFIED:20231108T163617Z
UID:2458-1700208000-1700413200@clermontcarclub.com
SUMMARY:Driver's Education with PCA
DESCRIPTION:Porsche Club of Ameria – Suncoast Florida Region \n\n\n\n \n\n\n\nTo get more details about this event please follow this link: https://suncoastpca.org/event/drivers-education-53/ \n\n\n\n \n\n\n\nSebring International Raceway Track Map
URL:https://clermontcarclub.com/event/drivers-education-at-pca-suncoast/
LOCATION:Sebring International Raceway\, 113 Midway Drive\, Sebring\, Florida\, 33870\, United States
CATEGORIES:CCC Track Nights,Clermont Car Club
ATTACH;FMTTYPE=image/jpeg:https://clermontcarclub.com/wp-content/uploads/2023/10/sebring-tracks.jpg
END:VEVENT
BEGIN:VEVENT
DTSTART;TZID=America/Halifax:20231114T170000
DTEND;TZID=America/Halifax:20231114T200000
DTSTAMP:20260422T134605
CREATED:20231003T011556Z
LAST-MODIFIED:20231003T052347Z
UID:2088-1699981200-1699992000@clermontcarclub.com
SUMMARY:Gear Talk Tuesdays
DESCRIPTION:Gear Talk Tuesdays: Where Car Enthusiasts Unite! \n\n\n\nDo you have a passion for all things automotive? Whether you’re behind the wheel of a high-performance machine\, an antique classic\, or simply appreciate cool rides\, Gear Talk Tuesdays is the place to be! \n\n\n\nJoin us in the heart of car-friendly Downtown Clermont\, where the excitement never stops. Every Tuesday\, we invite you to indulge your love for automobiles while enjoying your favorite drink. \n\n\n\nStep into a world of roaring engines\, sleek designs\, and automotive camaraderie. From vintage classics to cutting-edge innovations\, there’s something for everyone. \n\n\n\nBut that’s not all – bring your own ride and enter it into our ‘Car of the Month’ contest! Let your pride and joy shine in the spotlight\, and you could walk away with bragging rights and some exciting prizes. \n\n\n\nAs you explore the stunning vehicles on display\, don’t forget to savor the vibrant atmosphere of Downtown Clermont. With its charming restaurants\, lively bars\, and rich cultural scene\, this is the perfect setting for an unforgettable evening. \n\n\n\nSo\, what are you waiting for? Grab your keys\, bring your passion\, and join us for Gear Talk Tuesdays. Whether you’re a car enthusiast\, a casual admirer\, or just looking for a great time\, we guarantee you’ll leave with memories and a smile. \n\n\n\nSee you on Tuesdays for the ride of a lifetime!
URL:https://clermontcarclub.com/event/gear-talk-tuesdays-6/
LOCATION:Suncreek Brewery\, 790 West Minneola Ave\, Unit 3-4\, Clermont\, FL\, 34711\, United States
CATEGORIES:Clermont Car Club,Gear Talk Tuesdays
ATTACH;FMTTYPE=image/jpeg:https://clermontcarclub.com/wp-content/uploads/2023/09/red2-1920.jpg
END:VEVENT
BEGIN:VEVENT
DTSTART;TZID=America/Indiana/Indianapolis:20231107T170000
DTEND;TZID=America/Indiana/Indianapolis:20231107T200000
DTSTAMP:20260422T134605
CREATED:20231107T115809Z
LAST-MODIFIED:20231107T121154Z
UID:2899-1699376400-1699387200@clermontcarclub.com
SUMMARY:CCC Monthly Meeting
DESCRIPTION:1. Car of the Month Submission and Voting: \n\n\n\n\nAgenda:\n\nIntroduction of the Car of the Month candidates\, showcasing their submitted cars.\n\n\n\nMembers will cast their votes for the Car of the Month winner.\n\n\n\nCounting of votes and announcement of the Car of the Month winner.\n\n\n\nDiscussion of the winning car and recognition of the owner.\n\n\n\n\n\n\n2. Discussion of Official Spring Car Show: \n\n\n\n\nAgenda:\n\nInitiate discussions regarding the upcoming Official Spring Car Show.\n\n\n\nConsideration of potential dates for the event.\n\n\n\nExploration of possible venues or locations for the show.\n\n\n\nBrainstorming on key elements such as event themes\, sponsors\, and activities.\n\n\n\nOpen floor for members to share ideas and suggestions related to the Spring Car Show.\n\n\n\nPreliminary planning\, forming committees\, and setting action items for future meetings.
URL:https://clermontcarclub.com/event/ccc-monthly-meeting/
LOCATION:Suncreek Brewery\, 790 West Minneola Ave\, Unit 3-4\, Clermont\, FL\, 34711\, United States
ATTACH;FMTTYPE=image/jpeg:https://clermontcarclub.com/wp-content/uploads/2023/10/clermont-car-club-guys.jpg
END:VEVENT
BEGIN:VEVENT
DTSTART;TZID=America/Halifax:20231107T170000
DTEND;TZID=America/Halifax:20231107T200000
DTSTAMP:20260422T134605
CREATED:20231003T011518Z
LAST-MODIFIED:20231003T054713Z
UID:2087-1699376400-1699387200@clermontcarclub.com
SUMMARY:Gear Talk Tuesdays
DESCRIPTION:Gear Talk Tuesdays: Where Car Enthusiasts Unite! \n\n\n\nDo you have a passion for all things automotive? Whether you’re behind the wheel of a high-performance machine\, an antique classic\, or simply appreciate cool rides\, Gear Talk Tuesdays is the place to be! \n\n\n\nJoin us in the heart of car-friendly Downtown Clermont\, where the excitement never stops. Every Tuesday\, we invite you to indulge your love for automobiles while enjoying your favorite drink. \n\n\n\nStep into a world of roaring engines\, sleek designs\, and automotive camaraderie. From vintage classics to cutting-edge innovations\, there’s something for everyone. \n\n\n\nBut that’s not all – bring your own ride and enter it into our ‘Car of the Month’ contest! Let your pride and joy shine in the spotlight\, and you could walk away with bragging rights and some exciting prizes. \n\n\n\nAs you explore the stunning vehicles on display\, don’t forget to savor the vibrant atmosphere of Downtown Clermont. With its charming restaurants\, lively bars\, and rich cultural scene\, this is the perfect setting for an unforgettable evening. \n\n\n\nSo\, what are you waiting for? Grab your keys\, bring your passion\, and join us for Gear Talk Tuesdays. Whether you’re a car enthusiast\, a casual admirer\, or just looking for a great time\, we guarantee you’ll leave with memories and a smile. \n\n\n\nSee you on Tuesdays for the ride of a lifetime!
URL:https://clermontcarclub.com/event/gear-talk-tuesdays-5/
LOCATION:Suncreek Brewery\, 790 West Minneola Ave\, Unit 3-4\, Clermont\, FL\, 34711\, United States
CATEGORIES:Gear Talk Tuesdays
ATTACH;FMTTYPE=image/jpeg:https://clermontcarclub.com/wp-content/uploads/2023/09/white-scaled.jpg
END:VEVENT
BEGIN:VEVENT
DTSTART;TZID=America/Halifax:20231104T063000
DTEND;TZID=America/Halifax:20231104T170000
DTSTAMP:20260422T134605
CREATED:20231031T175924Z
LAST-MODIFIED:20231108T163955Z
UID:2451-1699079400-1699117200@clermontcarclub.com
SUMMARY:Chin Track Days: Nov 4\, 2023
DESCRIPTION:Sebring\, 3.7 mile\, 17 turn 12-Hour Circuit \n\n\n\nSebring International Raceway is one of the oldest tracks in the country and is host to the world-famous 12 Hours of Sebring. There are two versions of the course at Sebring. This event will be run on the 3.67-mile “full” course! \n\n\n\n\nThe Track Shack concession stand will NOT be open for this event. Please bring water\, sports drinks\, and snacks to keep yourself hydrated and fueled up for the evening!\n\n\n\nFuel (93\, 98\, 110\, and 112)\, air and ice will all be available in the fuel farm area until 7:00 pm. \n\n\n\nSebring International Raceway imposes a $20 paddock fee on all RVs\, toter homes\, and race haulers entering their paddock. They define a race hauler as all air-conditioned enclosed trailers. If you’ll be bringing one of these vehicles\, please be prepared to pay the $20 cash fee to the gate guard upon entry. \n\n\n\n\nTrack Map
URL:https://clermontcarclub.com/event/chin-track-days-nov-4-2023/
LOCATION:Sebring International Raceway\, 113 Midway Drive\, Sebring\, Florida\, 33870\, United States
CATEGORIES:CCC Track Nights,Clermont Car Club
ATTACH;FMTTYPE=image/jpeg:https://clermontcarclub.com/wp-content/uploads/2023/10/03-Forrest-Gump-Farm-Gate-Yemassee-SC-scaled.jpg
END:VEVENT
BEGIN:VEVENT
DTSTART;TZID=America/Halifax:20231102T120000
DTEND;TZID=America/Halifax:20231102T200000
DTSTAMP:20260422T134605
CREATED:20231003T015504Z
LAST-MODIFIED:20231031T171606Z
UID:2091-1698926400-1698955200@clermontcarclub.com
SUMMARY:CCC Track Night: Nov 2\, 2023
DESCRIPTION:Track Night 2023: Sebring International Raceway \n\n\n\nSebring International Raceway is one of the oldest tracks in the country and is host to the world-famous 12 Hours of Sebring. There are two versions of the course at Sebring. This event will be run on the 3.67-mile “full” course! \n\n\n\n\nThe Track Shack concession stand will NOT be open for this event. Please bring water\, sports drinks\, and snacks to keep yourself hydrated and fueled up for the evening!\n\n\n\nFuel (93\, 98\, 110\, and 112)\, air and ice will all be available in the fuel farm area until 7:00 pm. \n\n\n\nSebring International Raceway imposes a $20 paddock fee on all RVs\, toter homes\, and race haulers entering their paddock. They define a race hauler as all air-conditioned enclosed trailers. If you’ll be bringing one of these vehicles\, please be prepared to pay the $20 cash fee to the gate guard upon entry. \n\n\n\n\nTrack Maps\n\n\n\n\n\n\n\n\n\n\n\n\n\n\n\n\n\n \n\n\n\nEVENT SCHEDULE\n\n\n\n\n\n  \n    12:00 PM\n    Gates Open\n  \n  \n    2:00 PM\n    Worker Meeting (includes Run/Work participants)\n  \n  \n    2:15 PM\n    Mandatory Hawk Performance Novice Meeting\n  \n  \n    2:30 PM\n    Hawk Novice Group: Paced Laps\n  \n  \n    2:50 PM\n    Advanced Group: Session 1\n  \n  \n    2:55 PM\n    Hawk Novice Group: Briefing 1\n  \n  \n    3:10 PM\n    Intermediate Group: Session 1\n  \n  \n    3:30 PM\n    Hawk Novice Group: Session 1\n  \n  \n    3:50 PM\n    Advanced Group: Session 2\n  \n  \n    3:55 PM\n    Hawk Novice Group: Briefing 2\n  \n  \n    4:10 PM\n    Intermediate Group: Session 2\n  \n  \n    4:30 PM\n    TRACK TOUR LAPS (OPEN TO ALL)\n  \n  \n    4:50 PM\n    Hawk Novice Group: Session 2\n  \n  \n    5:10 PM\n    Advanced Group: Session 3\n  \n  \n    5:15 PM\n    Hawk Novice Group: Briefing 3\n  \n  \n    5:30 PM\n    Intermediate Group: Session 3\n  \n  \n    5:50 PM\n    Hawk Novice Group: Session 3\n  \n  \n    6:10 PM\n    Track Close\n  \n  \n    7:30 PM\n    Gates Close\n  \n\n\n\n\n* Times are an approximation (Weather and on-track issues can play havoc with a schedule\, and sometimes officials might have to improvise to make sure everyone gets the most out of the event.)
URL:https://clermontcarclub.com/event/ccc-track-night-nov-2023/
LOCATION:Sebring International Raceway\, 113 Midway Drive\, Sebring\, Florida\, 33870\, United States
CATEGORIES:CCC Track Nights,Clermont Car Club
ATTACH;FMTTYPE=image/jpeg:https://clermontcarclub.com/wp-content/uploads/2023/10/03-Forrest-Gump-Farm-Gate-Yemassee-SC-scaled.jpg
END:VEVENT
BEGIN:VEVENT
DTSTART;TZID=America/Halifax:20231031T170000
DTEND;TZID=America/Halifax:20231031T200000
DTSTAMP:20260422T134605
CREATED:20231003T010800Z
LAST-MODIFIED:20231003T054028Z
UID:2082-1698771600-1698782400@clermontcarclub.com
SUMMARY:Gear Talk Tuesdays
DESCRIPTION:Gear Talk Tuesdays: Where Car Enthusiasts Unite! \n\n\n\nDo you have a passion for all things automotive? Whether you’re behind the wheel of a high-performance machine\, an antique classic\, or simply appreciate cool rides\, Gear Talk Tuesdays is the place to be! \n\n\n\nJoin us in the heart of car-friendly Downtown Clermont\, where the excitement never stops. Every Tuesday\, we invite you to indulge your love for automobiles while enjoying your favorite drink. \n\n\n\nStep into a world of roaring engines\, sleek designs\, and automotive camaraderie. From vintage classics to cutting-edge innovations\, there’s something for everyone. \n\n\n\nBut that’s not all – bring your own ride and enter it into our ‘Car of the Month’ contest! Let your pride and joy shine in the spotlight\, and you could walk away with bragging rights and some exciting prizes. \n\n\n\nAs you explore the stunning vehicles on display\, don’t forget to savor the vibrant atmosphere of Downtown Clermont. With its charming restaurants\, lively bars\, and rich cultural scene\, this is the perfect setting for an unforgettable evening. \n\n\n\nSo\, what are you waiting for? Grab your keys\, bring your passion\, and join us for Gear Talk Tuesdays. Whether you’re a car enthusiast\, a casual admirer\, or just looking for a great time\, we guarantee you’ll leave with memories and a smile. \n\n\n\nSee you on Tuesdays for the ride of a lifetime!
URL:https://clermontcarclub.com/event/gear-talk-tuesdays-4/
LOCATION:Suncreek Brewery\, 790 West Minneola Ave\, Unit 3-4\, Clermont\, FL\, 34711\, United States
CATEGORIES:Gear Talk Tuesdays
ATTACH;FMTTYPE=image/jpeg:https://clermontcarclub.com/wp-content/uploads/2023/10/mustang-logo.jpg
END:VEVENT
BEGIN:VEVENT
DTSTART;TZID=America/Halifax:20231024T170000
DTEND;TZID=America/Halifax:20231024T200000
DTSTAMP:20260422T134605
CREATED:20231003T005825Z
LAST-MODIFIED:20231003T054721Z
UID:2079-1698166800-1698177600@clermontcarclub.com
SUMMARY:Gear Talk Tuesdays
DESCRIPTION:Gear Talk Tuesdays: Where Car Enthusiasts Unite! \n\n\n\nDo you have a passion for all things automotive? Whether you’re behind the wheel of a high-performance machine\, an antique classic\, or simply appreciate cool rides\, Gear Talk Tuesdays is the place to be! \n\n\n\nJoin us in the heart of car-friendly Downtown Clermont\, where the excitement never stops. Every Tuesday\, we invite you to indulge your love for automobiles while enjoying your favorite drink. \n\n\n\nStep into a world of roaring engines\, sleek designs\, and automotive camaraderie. From vintage classics to cutting-edge innovations\, there’s something for everyone. \n\n\n\nBut that’s not all – bring your own ride and enter it into our ‘Car of the Month’ contest! Let your pride and joy shine in the spotlight\, and you could walk away with bragging rights and some exciting prizes. \n\n\n\nAs you explore the stunning vehicles on display\, don’t forget to savor the vibrant atmosphere of Downtown Clermont. With its charming restaurants\, lively bars\, and rich cultural scene\, this is the perfect setting for an unforgettable evening. \n\n\n\nSo\, what are you waiting for? Grab your keys\, bring your passion\, and join us for Gear Talk Tuesdays. Whether you’re a car enthusiast\, a casual admirer\, or just looking for a great time\, we guarantee you’ll leave with memories and a smile. \n\n\n\nSee you on Tuesdays for the ride of a lifetime!
URL:https://clermontcarclub.com/event/gear-talk-tuesdays-3/
LOCATION:Suncreek Brewery\, 790 West Minneola Ave\, Unit 3-4\, Clermont\, FL\, 34711\, United States
CATEGORIES:Clermont Car Club,Gear Talk Tuesdays
ATTACH;FMTTYPE=image/jpeg:https://clermontcarclub.com/wp-content/uploads/2023/10/1974-Porsche-911-Targa-rearview.jpg
END:VEVENT
BEGIN:VEVENT
DTSTART;TZID=America/Halifax:20231017T170000
DTEND;TZID=America/Halifax:20231017T200000
DTSTAMP:20260422T134605
CREATED:20231003T005237Z
LAST-MODIFIED:20231004T172314Z
UID:2077-1697562000-1697572800@clermontcarclub.com
SUMMARY:Gear Talk Tuesdays
DESCRIPTION:Gear Talk Tuesdays: Where Car Enthusiasts Unite! \n\n\n\nDo you have a passion for all things automotive? Whether you’re behind the wheel of a high-performance machine\, an antique classic\, or simply appreciate cool rides\, Gear Talk Tuesdays is the place to be! \n\n\n\nJoin us in the heart of car-friendly Downtown Clermont\, where the excitement never stops. Every Tuesday\, we invite you to indulge your love for automobiles while enjoying your favorite drink. \n\n\n\nStep into a world of roaring engines\, sleek designs\, and automotive camaraderie. From vintage classics to cutting-edge innovations\, there’s something for everyone. \n\n\n\nBut that’s not all – bring your own ride and enter it into our ‘Car of the Month’ contest! Let your pride and joy shine in the spotlight\, and you could walk away with bragging rights and some exciting prizes. \n\n\n\nAs you explore the stunning vehicles on display\, don’t forget to savor the vibrant atmosphere of Downtown Clermont. With its charming restaurants\, lively bars\, and rich cultural scene\, this is the perfect setting for an unforgettable evening. \n\n\n\nSo\, what are you waiting for? Grab your keys\, bring your passion\, and join us for Gear Talk Tuesdays. Whether you’re a car enthusiast\, a casual admirer\, or just looking for a great time\, we guarantee you’ll leave with memories and a smile. \n\n\n\nSee you on Tuesdays for the ride of a lifetime!
URL:https://clermontcarclub.com/event/gear-talk-tuesdays-2/
LOCATION:Suncreek Brewery\, 790 West Minneola Ave\, Unit 3-4\, Clermont\, FL\, 34711\, United States
CATEGORIES:Clermont Car Club,Gear Talk Tuesdays
ATTACH;FMTTYPE=image/jpeg:https://clermontcarclub.com/wp-content/uploads/2023/10/mustang-yellow-overhaul.jpg
END:VEVENT
BEGIN:VEVENT
DTSTART;TZID=America/Halifax:20231010T170000
DTEND;TZID=America/Halifax:20231010T200000
DTSTAMP:20260422T134605
CREATED:20230915T234234Z
LAST-MODIFIED:20231003T054708Z
UID:1879-1696957200-1696968000@clermontcarclub.com
SUMMARY:Gear Talk Tuesdays
DESCRIPTION:Gear Talk Tuesdays: Where Car Enthusiasts Unite! \n\n\n\nDo you have a passion for all things automotive? Whether you’re behind the wheel of a high-performance machine\, an antique classic\, or simply appreciate cool rides\, Gear Talk Tuesdays is the place to be! \n\n\n\nJoin us in the heart of car-friendly Downtown Clermont\, where the excitement never stops. Every Tuesday\, we invite you to indulge your love for automobiles while enjoying your favorite drink. \n\n\n\nStep into a world of roaring engines\, sleek designs\, and automotive camaraderie. From vintage classics to cutting-edge innovations\, there’s something for everyone. \n\n\n\nBut that’s not all – bring your own ride and enter it into our ‘Car of the Month’ contest! Let your pride and joy shine in the spotlight\, and you could walk away with bragging rights and some exciting prizes. \n\n\n\nAs you explore the stunning vehicles on display\, don’t forget to savor the vibrant atmosphere of Downtown Clermont. With its charming restaurants\, lively bars\, and rich cultural scene\, this is the perfect setting for an unforgettable evening. \n\n\n\nSo\, what are you waiting for? Grab your keys\, bring your passion\, and join us for Gear Talk Tuesdays. Whether you’re a car enthusiast\, a casual admirer\, or just looking for a great time\, we guarantee you’ll leave with memories and a smile. \n\n\n\nSee you on Tuesdays for the ride of a lifetime!
URL:https://clermontcarclub.com/event/gear-talk-tuesdays/
LOCATION:Suncreek Brewery\, 790 West Minneola Ave\, Unit 3-4\, Clermont\, FL\, 34711\, United States
CATEGORIES:Gear Talk Tuesdays
ATTACH;FMTTYPE=image/jpeg:https://clermontcarclub.com/wp-content/uploads/2023/09/clermont-car-club-guys-scaled.jpg
END:VEVENT
BEGIN:VEVENT
DTSTART;TZID=America/Halifax:20231007T170000
DTEND;TZID=America/Halifax:20231007T200000
DTSTAMP:20260422T134605
CREATED:20231002T194636Z
LAST-MODIFIED:20231003T045328Z
UID:2023-1696698000-1696708800@clermontcarclub.com
SUMMARY:CCC Launch
DESCRIPTION:Welcome to the Clermont Car Club! \n\n\n\nDiscover a world where horsepower meets camaraderie. Our website is your exclusive ticket to the ultimate car enthusiast experience in Clermont. From iconic classics to cutting-edge speedsters\, we’re your hub for all things automotive. \n\n\n\nExplore a treasure trove of car culture\, connect with fellow enthusiasts\, and ignite your passion for the open road. Join us on October 7 as we rev up the excitement and launch the Clermont Car Club website. It’s more than a club; it’s a lifestyle.  \n\n\n\nStay tuned\, and let’s hit the road together! \n\n\n\nDriving Dreams\, Building Bonds.
URL:https://clermontcarclub.com/event/ccc-launch/
LOCATION:Suncreek Brewery\, 790 West Minneola Ave\, Unit 3-4\, Clermont\, FL\, 34711\, United States
CATEGORIES:Website Launch
ATTACH;FMTTYPE=image/jpeg:https://clermontcarclub.com/wp-content/uploads/2023/10/CCC-Logo-redcar.jpg
END:VEVENT
END:VCALENDAR