BEGIN:VCALENDAR
VERSION:2.0
PRODID:-//Clermont Car Club - ECPv6.15.17.1//NONSGML v1.0//EN
CALSCALE:GREGORIAN
METHOD:PUBLISH
X-WR-CALNAME:Clermont Car Club
X-ORIGINAL-URL:https://clermontcarclub.com
X-WR-CALDESC:Events for Clermont Car Club
REFRESH-INTERVAL;VALUE=DURATION:PT1H
X-Robots-Tag:noindex
X-PUBLISHED-TTL:PT1H
BEGIN:VTIMEZONE
TZID:America/Halifax
BEGIN:DAYLIGHT
TZOFFSETFROM:-0400
TZOFFSETTO:-0300
TZNAME:ADT
DTSTART:20220313T060000
END:DAYLIGHT
BEGIN:STANDARD
TZOFFSETFROM:-0300
TZOFFSETTO:-0400
TZNAME:AST
DTSTART:20221106T050000
END:STANDARD
BEGIN:DAYLIGHT
TZOFFSETFROM:-0400
TZOFFSETTO:-0300
TZNAME:ADT
DTSTART:20230312T060000
END:DAYLIGHT
BEGIN:STANDARD
TZOFFSETFROM:-0300
TZOFFSETTO:-0400
TZNAME:AST
DTSTART:20231105T050000
END:STANDARD
BEGIN:DAYLIGHT
TZOFFSETFROM:-0400
TZOFFSETTO:-0300
TZNAME:ADT
DTSTART:20240310T060000
END:DAYLIGHT
BEGIN:STANDARD
TZOFFSETFROM:-0300
TZOFFSETTO:-0400
TZNAME:AST
DTSTART:20241103T050000
END:STANDARD
END:VTIMEZONE
BEGIN:VEVENT
DTSTART;TZID=America/Halifax:20231024T170000
DTEND;TZID=America/Halifax:20231024T200000
DTSTAMP:20260422T152707
CREATED:20231003T005825Z
LAST-MODIFIED:20231003T054721Z
UID:2079-1698166800-1698177600@clermontcarclub.com
SUMMARY:Gear Talk Tuesdays
DESCRIPTION:Gear Talk Tuesdays: Where Car Enthusiasts Unite! \n\n\n\nDo you have a passion for all things automotive? Whether you’re behind the wheel of a high-performance machine\, an antique classic\, or simply appreciate cool rides\, Gear Talk Tuesdays is the place to be! \n\n\n\nJoin us in the heart of car-friendly Downtown Clermont\, where the excitement never stops. Every Tuesday\, we invite you to indulge your love for automobiles while enjoying your favorite drink. \n\n\n\nStep into a world of roaring engines\, sleek designs\, and automotive camaraderie. From vintage classics to cutting-edge innovations\, there’s something for everyone. \n\n\n\nBut that’s not all – bring your own ride and enter it into our ‘Car of the Month’ contest! Let your pride and joy shine in the spotlight\, and you could walk away with bragging rights and some exciting prizes. \n\n\n\nAs you explore the stunning vehicles on display\, don’t forget to savor the vibrant atmosphere of Downtown Clermont. With its charming restaurants\, lively bars\, and rich cultural scene\, this is the perfect setting for an unforgettable evening. \n\n\n\nSo\, what are you waiting for? Grab your keys\, bring your passion\, and join us for Gear Talk Tuesdays. Whether you’re a car enthusiast\, a casual admirer\, or just looking for a great time\, we guarantee you’ll leave with memories and a smile. \n\n\n\nSee you on Tuesdays for the ride of a lifetime!
URL:https://clermontcarclub.com/event/gear-talk-tuesdays-3/
LOCATION:Suncreek Brewery\, 790 West Minneola Ave\, Unit 3-4\, Clermont\, FL\, 34711\, United States
CATEGORIES:Clermont Car Club,Gear Talk Tuesdays
ATTACH;FMTTYPE=image/jpeg:https://clermontcarclub.com/wp-content/uploads/2023/10/1974-Porsche-911-Targa-rearview.jpg
END:VEVENT
BEGIN:VEVENT
DTSTART;TZID=America/Halifax:20231017T170000
DTEND;TZID=America/Halifax:20231017T200000
DTSTAMP:20260422T152707
CREATED:20231003T005237Z
LAST-MODIFIED:20231004T172314Z
UID:2077-1697562000-1697572800@clermontcarclub.com
SUMMARY:Gear Talk Tuesdays
DESCRIPTION:Gear Talk Tuesdays: Where Car Enthusiasts Unite! \n\n\n\nDo you have a passion for all things automotive? Whether you’re behind the wheel of a high-performance machine\, an antique classic\, or simply appreciate cool rides\, Gear Talk Tuesdays is the place to be! \n\n\n\nJoin us in the heart of car-friendly Downtown Clermont\, where the excitement never stops. Every Tuesday\, we invite you to indulge your love for automobiles while enjoying your favorite drink. \n\n\n\nStep into a world of roaring engines\, sleek designs\, and automotive camaraderie. From vintage classics to cutting-edge innovations\, there’s something for everyone. \n\n\n\nBut that’s not all – bring your own ride and enter it into our ‘Car of the Month’ contest! Let your pride and joy shine in the spotlight\, and you could walk away with bragging rights and some exciting prizes. \n\n\n\nAs you explore the stunning vehicles on display\, don’t forget to savor the vibrant atmosphere of Downtown Clermont. With its charming restaurants\, lively bars\, and rich cultural scene\, this is the perfect setting for an unforgettable evening. \n\n\n\nSo\, what are you waiting for? Grab your keys\, bring your passion\, and join us for Gear Talk Tuesdays. Whether you’re a car enthusiast\, a casual admirer\, or just looking for a great time\, we guarantee you’ll leave with memories and a smile. \n\n\n\nSee you on Tuesdays for the ride of a lifetime!
URL:https://clermontcarclub.com/event/gear-talk-tuesdays-2/
LOCATION:Suncreek Brewery\, 790 West Minneola Ave\, Unit 3-4\, Clermont\, FL\, 34711\, United States
CATEGORIES:Clermont Car Club,Gear Talk Tuesdays
ATTACH;FMTTYPE=image/jpeg:https://clermontcarclub.com/wp-content/uploads/2023/10/mustang-yellow-overhaul.jpg
END:VEVENT
BEGIN:VEVENT
DTSTART;TZID=America/Halifax:20231010T170000
DTEND;TZID=America/Halifax:20231010T200000
DTSTAMP:20260422T152707
CREATED:20230915T234234Z
LAST-MODIFIED:20231003T054708Z
UID:1879-1696957200-1696968000@clermontcarclub.com
SUMMARY:Gear Talk Tuesdays
DESCRIPTION:Gear Talk Tuesdays: Where Car Enthusiasts Unite! \n\n\n\nDo you have a passion for all things automotive? Whether you’re behind the wheel of a high-performance machine\, an antique classic\, or simply appreciate cool rides\, Gear Talk Tuesdays is the place to be! \n\n\n\nJoin us in the heart of car-friendly Downtown Clermont\, where the excitement never stops. Every Tuesday\, we invite you to indulge your love for automobiles while enjoying your favorite drink. \n\n\n\nStep into a world of roaring engines\, sleek designs\, and automotive camaraderie. From vintage classics to cutting-edge innovations\, there’s something for everyone. \n\n\n\nBut that’s not all – bring your own ride and enter it into our ‘Car of the Month’ contest! Let your pride and joy shine in the spotlight\, and you could walk away with bragging rights and some exciting prizes. \n\n\n\nAs you explore the stunning vehicles on display\, don’t forget to savor the vibrant atmosphere of Downtown Clermont. With its charming restaurants\, lively bars\, and rich cultural scene\, this is the perfect setting for an unforgettable evening. \n\n\n\nSo\, what are you waiting for? Grab your keys\, bring your passion\, and join us for Gear Talk Tuesdays. Whether you’re a car enthusiast\, a casual admirer\, or just looking for a great time\, we guarantee you’ll leave with memories and a smile. \n\n\n\nSee you on Tuesdays for the ride of a lifetime!
URL:https://clermontcarclub.com/event/gear-talk-tuesdays/
LOCATION:Suncreek Brewery\, 790 West Minneola Ave\, Unit 3-4\, Clermont\, FL\, 34711\, United States
CATEGORIES:Gear Talk Tuesdays
ATTACH;FMTTYPE=image/jpeg:https://clermontcarclub.com/wp-content/uploads/2023/09/clermont-car-club-guys-scaled.jpg
END:VEVENT
BEGIN:VEVENT
DTSTART;TZID=America/Halifax:20231007T170000
DTEND;TZID=America/Halifax:20231007T200000
DTSTAMP:20260422T152707
CREATED:20231002T194636Z
LAST-MODIFIED:20231003T045328Z
UID:2023-1696698000-1696708800@clermontcarclub.com
SUMMARY:CCC Launch
DESCRIPTION:Welcome to the Clermont Car Club! \n\n\n\nDiscover a world where horsepower meets camaraderie. Our website is your exclusive ticket to the ultimate car enthusiast experience in Clermont. From iconic classics to cutting-edge speedsters\, we’re your hub for all things automotive. \n\n\n\nExplore a treasure trove of car culture\, connect with fellow enthusiasts\, and ignite your passion for the open road. Join us on October 7 as we rev up the excitement and launch the Clermont Car Club website. It’s more than a club; it’s a lifestyle.  \n\n\n\nStay tuned\, and let’s hit the road together! \n\n\n\nDriving Dreams\, Building Bonds.
URL:https://clermontcarclub.com/event/ccc-launch/
LOCATION:Suncreek Brewery\, 790 West Minneola Ave\, Unit 3-4\, Clermont\, FL\, 34711\, United States
CATEGORIES:Website Launch
ATTACH;FMTTYPE=image/jpeg:https://clermontcarclub.com/wp-content/uploads/2023/10/CCC-Logo-redcar.jpg
END:VEVENT
END:VCALENDAR